BEGIN:VCALENDAR
VERSION:2.0
PRODID:-//Solution Chapel International - ECPv6.15.20//NONSGML v1.0//EN
CALSCALE:GREGORIAN
METHOD:PUBLISH
X-WR-CALNAME:Solution Chapel International
X-ORIGINAL-URL:https://solutionchapel.org
X-WR-CALDESC:Events for Solution Chapel International
REFRESH-INTERVAL;VALUE=DURATION:PT1H
X-Robots-Tag:noindex
X-PUBLISHED-TTL:PT1H
BEGIN:VTIMEZONE
TZID:UTC
BEGIN:STANDARD
TZOFFSETFROM:+0000
TZOFFSETTO:+0000
TZNAME:UTC
DTSTART:20230101T000000
END:STANDARD
END:VTIMEZONE
BEGIN:VEVENT
DTSTART;TZID=UTC:20240107T100000
DTEND;TZID=UTC:20240107T123000
DTSTAMP:20260422T143851
CREATED:20231213T044827Z
LAST-MODIFIED:20240105T133206Z
UID:25976-1704621600-1704630600@solutionchapel.org
SUMMARY:15TH CHURCH ANNIVERSARY THANKSGIVING & PRAISE SUNDAY
DESCRIPTION:HOME OF SIGNS\, WONDERS & MIRACLES \n15TH CHURCH ANNIVERSARY THANKSGIVING & PRAISE SUNDAY \nSUNDAY 7TH JANUARY 2024 \n1ST SERVICE 10:00AM – 11:15AM  | 2ND SERVICE 11:15AM – 12:30PM \nMINISTERING | PASTOR ADAMA SEGBEDJI \nSOLUTION CHAPEL INTERNATIONAL – HOME OF SIGNS\, WONDERS & MIRACLES \nBARNFIELD ROAD\, NORTHGATE\, CRAWLEY\, RH10 8DS \n07938 494 294 | INFO@SOLUTIONCHAPEL.ORG | WWW.SOLUTIONCHAPEL.ORG \nJOIN US WITH YOUR FAMILY & FRIENDS FOR 15TH CHURCH ANNIVERSARY THANKSGIVING & PRAISE SUNDAY
URL:https://solutionchapel.org/event/15th-church-anniversary-thanksgiving-praise-sunday/
LOCATION:Solution Chapel International\, 10 New Street\, Crawley\, West Sussex\, RH10 1LW\, United Kingdom
CATEGORIES:All Events
ATTACH;FMTTYPE=image/jpeg:https://solutionchapel.org/wp-content/uploads/2024/01/15th-Church-Anniversary-1.jpg
ORGANIZER;CN="Solution Chapel International":MAILTO:info@solutionchapel.org
END:VEVENT
END:VCALENDAR