BEGIN:VCALENDAR
VERSION:2.0
PRODID:-//Solution Chapel International - ECPv6.15.20//NONSGML v1.0//EN
CALSCALE:GREGORIAN
METHOD:PUBLISH
X-WR-CALNAME:Solution Chapel International
X-ORIGINAL-URL:https://solutionchapel.org
X-WR-CALDESC:Events for Solution Chapel International
REFRESH-INTERVAL;VALUE=DURATION:PT1H
X-Robots-Tag:noindex
X-PUBLISHED-TTL:PT1H
BEGIN:VTIMEZONE
TZID:UTC
BEGIN:STANDARD
TZOFFSETFROM:+0000
TZOFFSETTO:+0000
TZNAME:UTC
DTSTART:20190101T000000
END:STANDARD
END:VTIMEZONE
BEGIN:VEVENT
DTSTART;TZID=UTC:20200329T073000
DTEND;TZID=UTC:20200329T083000
DTSTAMP:20260423T041038
CREATED:20200328T215504Z
LAST-MODIFIED:20220630T104625Z
UID:6454-1585467000-1585470600@solutionchapel.org
SUMMARY:1st Sunday Service 10:00am - 11:15am
DESCRIPTION:Please join us for our 1st Sunday Service 10:00am – 11:15am \nYOUTUBE  \nSOLUTION CHAPEL
URL:https://solutionchapel.org/event/1st-sunday-service-1000am-1115am/
CATEGORIES:All Events
ATTACH;FMTTYPE=image/jpeg:https://solutionchapel.org/wp-content/uploads/2017/03/Solution-Chapel-Live-Stream-scaled.jpg
END:VEVENT
END:VCALENDAR