BEGIN:VCALENDAR
VERSION:2.0
PRODID:-//Solution Chapel International - ECPv6.15.20//NONSGML v1.0//EN
CALSCALE:GREGORIAN
METHOD:PUBLISH
X-WR-CALNAME:Solution Chapel International
X-ORIGINAL-URL:https://solutionchapel.org
X-WR-CALDESC:Events for Solution Chapel International
REFRESH-INTERVAL;VALUE=DURATION:PT1H
X-Robots-Tag:noindex
X-PUBLISHED-TTL:PT1H
BEGIN:VTIMEZONE
TZID:UTC
BEGIN:STANDARD
TZOFFSETFROM:+0000
TZOFFSETTO:+0000
TZNAME:UTC
DTSTART:20240101T000000
END:STANDARD
END:VTIMEZONE
BEGIN:VEVENT
DTSTART;TZID=UTC:20250108T190000
DTEND;TZID=UTC:20250128T203000
DTSTAMP:20260420T044204
CREATED:20240106T194404Z
LAST-MODIFIED:20250128T201843Z
UID:26427-1736362800-1738096200@solutionchapel.org
SUMMARY:21 Days of Soul Winning
DESCRIPTION:21 Days of Soul Winning – 8th – 28th January 2025 \nJoin us for our annual 21 Days of Soul Winning at Crawley. Win 12 abiding Souls for God this year and see God transform your destiny from Glory to Glory. \nCome along with your children and let us win Souls for Jesus in 2025 \n7:00am – 7:30am Manifest – Altar of Manifestations  daily Prayer on ZOOM ID 2233858000 PASSCODE 040109 \n7:30pm – 8:00pm Prayer Time – 8th – 28th January 2025 \nSolution Chapel International Crawley – Home of Signs\, Wonders & Miracles  \n10 New Street\, Three Bridges\, Crawley\, RH10 1LW \n\n\n\nSoul winning is the act of preaching the word of God and giving people the opportunity to accept Christ and be saved. Some say that soul winning is the heartbeat of God\, and that the salvation of souls is a cause for joy in heaven.  \n\n\n\nSome tips for being an effective soul winner include: \n\n\n\n\n\n\n\n\n\n\n\n\n\n\n\n\n\n\n\n\n\n\nLiving a consistent Christian life\nLearning the Gospel\nWatching for opportunities\nCreating opportunities\nLeaving the results with God\nPresenting a Christlike example\nWe shall be meeting daily at vantage points in Crawley at different times for church outreach\, please call church office for further details\n\n\n\nhttps://solutionchapel.org/live/ \n 
URL:https://solutionchapel.org/event/21-days-of-soul-winning-8th-28th-january-2024/
LOCATION:Solution Chapel International\, 10 New Street\, Crawley\, West Sussex\, RH10 1LW\, United Kingdom
CATEGORIES:All Events
ATTACH;FMTTYPE=image/png:https://solutionchapel.org/wp-content/uploads/2024/01/21-DAYS-OF-SOUL-WINNING-.png
ORGANIZER;CN="Solution Chapel International":MAILTO:info@solutionchapel.org
END:VEVENT
END:VCALENDAR