BEGIN:VCALENDAR
VERSION:2.0
PRODID:-//Solution Chapel International - ECPv6.15.20//NONSGML v1.0//EN
CALSCALE:GREGORIAN
METHOD:PUBLISH
X-WR-CALNAME:Solution Chapel International
X-ORIGINAL-URL:https://solutionchapel.org
X-WR-CALDESC:Events for Solution Chapel International
REFRESH-INTERVAL;VALUE=DURATION:PT1H
X-Robots-Tag:noindex
X-PUBLISHED-TTL:PT1H
BEGIN:VTIMEZONE
TZID:UTC
BEGIN:STANDARD
TZOFFSETFROM:+0000
TZOFFSETTO:+0000
TZNAME:UTC
DTSTART:20220101T000000
END:STANDARD
END:VTIMEZONE
BEGIN:VEVENT
DTSTART;TZID=UTC:20230701T070000
DTEND;TZID=UTC:20230809T200000
DTSTAMP:20260420T044940
CREATED:20230623T191206Z
LAST-MODIFIED:20230708T072209Z
UID:24518-1688194800-1691611200@solutionchapel.org
SUMMARY:40 Days of Glory
DESCRIPTION:40 DAYS OF GLORY \nYou time to encounter God on another higher level has come. Join us for the 40 Days of Glory with God’s Servant Pastor Adama Segbedji from the 1st of July to the 9th of August 2023 \n  \nPrepare your hearts for the 2023 40 Days of Glory with Pastor Adama Segbedji \n1st July – 9th August 2023 \nDaily Prayer Times \n7:00am – 7:30am \n12:00 Noon – 12:30pm \n3:00pm – 3:30pm \n6:30pm – 7:30pm \nZoom Id 2233858 000 Passcode 040109 \nAll are invited to join the 40 Days of Glory from across the world.
URL:https://solutionchapel.org/event/40-days-of-glory/
LOCATION:Solution Chapel International\, 10 New Street\, Crawley\, West Sussex\, RH10 1LW\, United Kingdom
CATEGORIES:All Events
ATTACH;FMTTYPE=image/png:https://solutionchapel.org/wp-content/uploads/2023/06/40-DAYS-OF-GLORY-.png
ORGANIZER;CN="Solution Chapel International":MAILTO:info@solutionchapel.org
END:VEVENT
END:VCALENDAR