BEGIN:VCALENDAR
VERSION:2.0
PRODID:-//Solution Chapel International - ECPv6.15.20//NONSGML v1.0//EN
CALSCALE:GREGORIAN
METHOD:PUBLISH
X-WR-CALNAME:Solution Chapel International
X-ORIGINAL-URL:https://solutionchapel.org
X-WR-CALDESC:Events for Solution Chapel International
REFRESH-INTERVAL;VALUE=DURATION:PT1H
X-Robots-Tag:noindex
X-PUBLISHED-TTL:PT1H
BEGIN:VTIMEZONE
TZID:UTC
BEGIN:STANDARD
TZOFFSETFROM:+0000
TZOFFSETTO:+0000
TZNAME:UTC
DTSTART:20220101T000000
END:STANDARD
END:VTIMEZONE
BEGIN:VEVENT
DTSTART;TZID=UTC:20230212T100000
DTEND;TZID=UTC:20230212T123000
DTSTAMP:20260422T052844
CREATED:20230205T222556Z
LAST-MODIFIED:20230531T194647Z
UID:13807-1676196000-1676205000@solutionchapel.org
SUMMARY:Communion & Courtship Sunday
DESCRIPTION:COMMUNION & COURTSHIP SUNDAY AT SOLUTION CHAPEL INTERNATIONAL THE HOME OF SIGNS\, WONDERS & MIRACLES 
URL:https://solutionchapel.org/event/communion-courtship-sunday/
CATEGORIES:All Events
ATTACH;FMTTYPE=image/jpeg:https://solutionchapel.org/wp-content/uploads/2023/01/IMG_0303-scaled.jpg
END:VEVENT
END:VCALENDAR