BEGIN:VCALENDAR
VERSION:2.0
PRODID:-//Solution Chapel International - ECPv6.15.20//NONSGML v1.0//EN
CALSCALE:GREGORIAN
METHOD:PUBLISH
X-WR-CALNAME:Solution Chapel International
X-ORIGINAL-URL:https://solutionchapel.org
X-WR-CALDESC:Events for Solution Chapel International
REFRESH-INTERVAL;VALUE=DURATION:PT1H
X-Robots-Tag:noindex
X-PUBLISHED-TTL:PT1H
BEGIN:VTIMEZONE
TZID:UTC
BEGIN:STANDARD
TZOFFSETFROM:+0000
TZOFFSETTO:+0000
TZNAME:UTC
DTSTART:20220101T000000
END:STANDARD
END:VTIMEZONE
BEGIN:VEVENT
DTSTART;TZID=UTC:20230312T100000
DTEND;TZID=UTC:20230312T123000
DTSTAMP:20260422T155440
CREATED:20230303T175657Z
LAST-MODIFIED:20230531T194506Z
UID:14237-1678615200-1678624200@solutionchapel.org
SUMMARY:Communion & Harvest Sunday
DESCRIPTION:COMMUNION & HARVEST SUNDAY \nAfter Praise the earth yield it’s increase\, so it is our harvest time. Come along with your family and friends for this prophetic encounter with the Holy Spirit \n1st Service 10:00AM – 11:15AM \n1st Service 11:15AM – 12:30PM \nALL ARE INVITED 
URL:https://solutionchapel.org/event/communion-harvest-sunday/
CATEGORIES:All Events
ATTACH;FMTTYPE=image/png:https://solutionchapel.org/wp-content/uploads/2023/03/COMMUNION-HARVEST-SUNDAY-.png
END:VEVENT
END:VCALENDAR