BEGIN:VCALENDAR
VERSION:2.0
PRODID:-//Solution Chapel International - ECPv6.15.20//NONSGML v1.0//EN
CALSCALE:GREGORIAN
METHOD:PUBLISH
X-WR-CALNAME:Solution Chapel International
X-ORIGINAL-URL:https://solutionchapel.org
X-WR-CALDESC:Events for Solution Chapel International
REFRESH-INTERVAL;VALUE=DURATION:PT1H
X-Robots-Tag:noindex
X-PUBLISHED-TTL:PT1H
BEGIN:VTIMEZONE
TZID:UTC
BEGIN:STANDARD
TZOFFSETFROM:+0000
TZOFFSETTO:+0000
TZNAME:UTC
DTSTART:20220101T000000
END:STANDARD
END:VTIMEZONE
BEGIN:VEVENT
DTSTART;TZID=UTC:20230702T100000
DTEND;TZID=UTC:20230702T123000
DTSTAMP:20260420T064854
CREATED:20230623T192728Z
LAST-MODIFIED:20230624T133524Z
UID:24522-1688292000-1688301000@solutionchapel.org
SUMMARY:Deliverance & Praise Sunday
DESCRIPTION:Deliverance & Praise Sunday \nNew Members are welcome. \nTry our Church out for 3 months and see if you will like us.
URL:https://solutionchapel.org/event/deliverance-praise-sunday/
CATEGORIES:All Events
ATTACH;FMTTYPE=image/png:https://solutionchapel.org/wp-content/uploads/2023/06/Deliverance-Praise-Sunday-.png
ORGANIZER;CN="Solution Chapel International":MAILTO:info@solutionchapel.org
END:VEVENT
END:VCALENDAR