BEGIN:VCALENDAR
VERSION:2.0
PRODID:-//Solution Chapel International - ECPv6.15.20//NONSGML v1.0//EN
CALSCALE:GREGORIAN
METHOD:PUBLISH
X-WR-CALNAME:Solution Chapel International
X-ORIGINAL-URL:https://solutionchapel.org
X-WR-CALDESC:Events for Solution Chapel International
REFRESH-INTERVAL;VALUE=DURATION:PT1H
X-Robots-Tag:noindex
X-PUBLISHED-TTL:PT1H
BEGIN:VTIMEZONE
TZID:UTC
BEGIN:STANDARD
TZOFFSETFROM:+0000
TZOFFSETTO:+0000
TZNAME:UTC
DTSTART:20220101T000000
END:STANDARD
END:VTIMEZONE
BEGIN:VEVENT
DTSTART;TZID=UTC:20230613T070000
DTEND;TZID=UTC:20230613T123000
DTSTAMP:20260424T091954
CREATED:20230612T105510Z
LAST-MODIFIED:20230612T105511Z
UID:24495-1686639600-1686659400@solutionchapel.org
SUMMARY:Double Growth Prophetic Prayers
DESCRIPTION:Double Growth Prophetic Prayers \nPrayer Times 7am – 7:30am & 12:00 noon – 12:30pm \nZoom Id 22 33 858 000 Passcode \nJoin us and let us all pray together
URL:https://solutionchapel.org/event/double-growth-prophetic-prayers/
CATEGORIES:All Events
ATTACH;FMTTYPE=image/jpeg:https://solutionchapel.org/wp-content/uploads/2023/06/crawley-opening-times.jpg
END:VEVENT
END:VCALENDAR