BEGIN:VCALENDAR
VERSION:2.0
PRODID:-//Solution Chapel International - ECPv6.15.20//NONSGML v1.0//EN
CALSCALE:GREGORIAN
METHOD:PUBLISH
X-WR-CALNAME:Solution Chapel International
X-ORIGINAL-URL:https://solutionchapel.org
X-WR-CALDESC:Events for Solution Chapel International
REFRESH-INTERVAL;VALUE=DURATION:PT1H
X-Robots-Tag:noindex
X-PUBLISHED-TTL:PT1H
BEGIN:VTIMEZONE
TZID:UTC
BEGIN:STANDARD
TZOFFSETFROM:+0000
TZOFFSETTO:+0000
TZNAME:UTC
DTSTART:20220101T000000
END:STANDARD
END:VTIMEZONE
BEGIN:VEVENT
DTSTART;TZID=UTC:20231119T100000
DTEND;TZID=UTC:20231119T123000
DTSTAMP:20260421T222028
CREATED:20231030T210937Z
LAST-MODIFIED:20231106T200132Z
UID:25625-1700388000-1700397000@solutionchapel.org
SUMMARY:ENOUGH IS ENOUGH SUNDAY
DESCRIPTION:HOME OF SIGNS\, WONDERS & MIRACLES \nENOUGH IS ENOUGH SUNDAY \n19TH NOVEMBER 2023 | 1st Service 10:00am – 11:15am | 2nd Service 11:15am – 12:30pm \n079 38 494 294 | info@solutionchapel.org | www.solutionchapel.org \nSolution Chapel International | Barnfield Road\, Northgate\, Crawley\, RH10 8DS \nMinistering | PASTOR ADAMA SEGBEDJI \nIT IS YOUR TIME TO TAKE BACK WHAT BELONGS TO YOU.  ALL ARE INVITED
URL:https://solutionchapel.org/event/enough-is-enough-sunday/
LOCATION:Solution Chapel International\, 10 New Street\, Crawley\, West Sussex\, RH10 1LW\, United Kingdom
CATEGORIES:All Events
ATTACH;FMTTYPE=image/jpeg:https://solutionchapel.org/wp-content/uploads/2023/11/ENOUGH-IS-ENOUGH-.jpg
END:VEVENT
END:VCALENDAR