BEGIN:VCALENDAR
VERSION:2.0
PRODID:-//Solution Chapel International - ECPv6.15.20//NONSGML v1.0//EN
CALSCALE:GREGORIAN
METHOD:PUBLISH
X-WR-CALNAME:Solution Chapel International
X-ORIGINAL-URL:https://solutionchapel.org
X-WR-CALDESC:Events for Solution Chapel International
REFRESH-INTERVAL;VALUE=DURATION:PT1H
X-Robots-Tag:noindex
X-PUBLISHED-TTL:PT1H
BEGIN:VTIMEZONE
TZID:UTC
BEGIN:STANDARD
TZOFFSETFROM:+0000
TZOFFSETTO:+0000
TZNAME:UTC
DTSTART:20220101T000000
END:STANDARD
END:VTIMEZONE
BEGIN:VEVENT
DTSTART;TZID=UTC:20231203T100000
DTEND;TZID=UTC:20231203T123000
DTSTAMP:20260421T202419
CREATED:20231115T152419Z
LAST-MODIFIED:20231116T165542Z
UID:25752-1701597600-1701606600@solutionchapel.org
SUMMARY:GENERATIONAL BLESSINGS SUNDAY
DESCRIPTION:HOME OF SIGNS\, WONDERS & MIRACLES \nENFORCING GENERATIONAL BLESSINGS \n3RD DECEMBER  2023 | 1st Service 10:00am – 11:15am | 2nd Service 11:15am – 12:30pm \n079 38 494 294 | info@solutionchapel.org | www.solutionchapel.org \nSolution Chapel International | Barnfield Road\, Northgate\, Crawley\, RH10 8DS \nMinistering | PASTOR ADAMA SEGBEDJI \nIT IS YOUR TIME TO ENFORCE GENERATIONAL BLESSINGS.  ALL ARE INVITED
URL:https://solutionchapel.org/event/generational-blessings-sunday/
LOCATION:Solution Chapel International\, 10 New Street\, Crawley\, West Sussex\, RH10 1LW\, United Kingdom
CATEGORIES:All Events
ATTACH;FMTTYPE=image/jpeg:https://solutionchapel.org/wp-content/uploads/2023/09/IMG_6356-scaled.jpg
ORGANIZER;CN="Solution Chapel International":MAILTO:info@solutionchapel.org
END:VEVENT
END:VCALENDAR