BEGIN:VCALENDAR
VERSION:2.0
PRODID:-//Solution Chapel International - ECPv6.15.20//NONSGML v1.0//EN
CALSCALE:GREGORIAN
METHOD:PUBLISH
X-WR-CALNAME:Solution Chapel International
X-ORIGINAL-URL:https://solutionchapel.org
X-WR-CALDESC:Events for Solution Chapel International
REFRESH-INTERVAL;VALUE=DURATION:PT1H
X-Robots-Tag:noindex
X-PUBLISHED-TTL:PT1H
BEGIN:VTIMEZONE
TZID:UTC
BEGIN:STANDARD
TZOFFSETFROM:+0000
TZOFFSETTO:+0000
TZNAME:UTC
DTSTART:20220101T000000
END:STANDARD
END:VTIMEZONE
BEGIN:VEVENT
DTSTART;TZID=UTC:20231112T100000
DTEND;TZID=UTC:20231112T123000
DTSTAMP:20260422T000717
CREATED:20231030T210843Z
LAST-MODIFIED:20231103T080614Z
UID:25622-1699783200-1699792200@solutionchapel.org
SUMMARY:MANIFESTATION SUNDAY
DESCRIPTION:
URL:https://solutionchapel.org/event/manifestation-sunday/
LOCATION:Solution Chapel International\, 10 New Street\, Crawley\, West Sussex\, RH10 1LW\, United Kingdom
CATEGORIES:All Events
ORGANIZER;CN="Solution Chapel International":MAILTO:info@solutionchapel.org
END:VEVENT
END:VCALENDAR