BEGIN:VCALENDAR
VERSION:2.0
PRODID:-//Solution Chapel International - ECPv6.15.20//NONSGML v1.0//EN
CALSCALE:GREGORIAN
METHOD:PUBLISH
X-WR-CALNAME:Solution Chapel International
X-ORIGINAL-URL:https://solutionchapel.org
X-WR-CALDESC:Events for Solution Chapel International
REFRESH-INTERVAL;VALUE=DURATION:PT1H
X-Robots-Tag:noindex
X-PUBLISHED-TTL:PT1H
BEGIN:VTIMEZONE
TZID:UTC
BEGIN:STANDARD
TZOFFSETFROM:+0000
TZOFFSETTO:+0000
TZNAME:UTC
DTSTART:20220101T000000
END:STANDARD
END:VTIMEZONE
BEGIN:VEVENT
DTSTART;TZID=UTC:20231028T100000
DTEND;TZID=UTC:20231028T173000
DTSTAMP:20260422T091426
CREATED:20230627T194826Z
LAST-MODIFIED:20231022T190740Z
UID:24555-1698487200-1698514200@solutionchapel.org
SUMMARY:Mirror Conference 2023
DESCRIPTION:Mirror Conference 2023 \nSpeakers | Pastor Zama Segbedji\, Dr Pat Okorie & Dr Kike \n28th October 2023 | 10:00AM – 5:30PM \nThe Mirror Conference is Free but Registration is Mandatory.  Closing date to get your ticket is 20th October 2023.
URL:https://solutionchapel.org/event/mirror-conference-2023/
LOCATION:Solution Chapel International\, 10 New Street\, Crawley\, West Sussex\, RH10 1LW\, United Kingdom
CATEGORIES:All Events
ATTACH;FMTTYPE=image/jpeg:https://solutionchapel.org/wp-content/uploads/2023/10/Mirror-Comference.jpg
ORGANIZER;CN="Solution Chapel International":MAILTO:info@solutionchapel.org
END:VEVENT
END:VCALENDAR