BEGIN:VCALENDAR
VERSION:2.0
PRODID:-//Solution Chapel International - ECPv6.15.20//NONSGML v1.0//EN
CALSCALE:GREGORIAN
METHOD:PUBLISH
X-WR-CALNAME:Solution Chapel International
X-ORIGINAL-URL:https://solutionchapel.org
X-WR-CALDESC:Events for Solution Chapel International
REFRESH-INTERVAL;VALUE=DURATION:PT1H
X-Robots-Tag:noindex
X-PUBLISHED-TTL:PT1H
BEGIN:VTIMEZONE
TZID:UTC
BEGIN:STANDARD
TZOFFSETFROM:+0000
TZOFFSETTO:+0000
TZNAME:UTC
DTSTART:20190101T000000
END:STANDARD
END:VTIMEZONE
BEGIN:VEVENT
DTSTART;TZID=UTC:20200304T193000
DTEND;TZID=UTC:20200306T213000
DTSTAMP:20260423T002846
CREATED:20200211T104445Z
LAST-MODIFIED:20230531T210431Z
UID:6287-1583350200-1583530200@solutionchapel.org
SUMMARY:Prophetic Encounter
DESCRIPTION:For 2020 to be a great year for you\, you must do what you have never done before. Join us at the Prophetic Encounter as we Pray and Fast for 3 days where we break our fast with Communion and strong prayers from Wednesday to Friday. \nOur Prophet teaches the word of God with clarity and accuracy during the 3 days and a Special Anointing Service takes place on the last day of the Prophetic Encounter. \nCome and Taste the goodness of God for yourself. Your long awaited testimony is now due. \n  \nThe Prophetic Encounter is Non Denominational and opened to ALL and it is absolutely FREE. \n  \nCall 079 38 494 294 or email info@solutionchapel.org or visit our website www.solutionchapel.org \nCome and Encounter the burden removing and yoke destroying power \n  \n\nHosea 12:13 By a prophet the Lord brought Israel up from Egypt\, and by a prophet he was guarded. \nThis Prophetic Encounter is Set to Transform your life forever
URL:https://solutionchapel.org/event/prophetic-encounter/
CATEGORIES:All Events
ATTACH;FMTTYPE=image/jpeg:https://solutionchapel.org/wp-content/uploads/2020/02/PROPHETIC-ENCOUNTER1-scaled.jpg
END:VEVENT
END:VCALENDAR