BEGIN:VCALENDAR
VERSION:2.0
PRODID:-//Solution Chapel International - ECPv6.15.20//NONSGML v1.0//EN
CALSCALE:GREGORIAN
METHOD:PUBLISH
X-WR-CALNAME:Solution Chapel International
X-ORIGINAL-URL:https://solutionchapel.org
X-WR-CALDESC:Events for Solution Chapel International
REFRESH-INTERVAL;VALUE=DURATION:PT1H
X-Robots-Tag:noindex
X-PUBLISHED-TTL:PT1H
BEGIN:VTIMEZONE
TZID:UTC
BEGIN:STANDARD
TZOFFSETFROM:+0000
TZOFFSETTO:+0000
TZNAME:UTC
DTSTART:20180101T000000
END:STANDARD
END:VTIMEZONE
BEGIN:VEVENT
DTSTART;TZID=UTC:20190217T100000
DTEND;TZID=UTC:20190217T120000
DTSTAMP:20260422T034306
CREATED:20190204T161821Z
LAST-MODIFIED:20230531T210336Z
UID:1579-1550397600-1550404800@solutionchapel.org
SUMMARY:Special Anointing For Exploits In Creativity
DESCRIPTION:SPECIAL ANOINTING FOR EXPLOITS IN CREATIVITY at Solution Chapel International | Home of Signs\, Wonders & Miracles in Crawley West Sussex at northgate community centre. \nCome with high expectation and receive the anointing for exploits in creativity. Those who rule the world today are those who are creating something for the world. \nGod created the heaven and the Earth and since then we have been mandated to be creative. \n  \nCome with all your famiy and friends for this special event. \n  \nAdmission is FREE.
URL:https://solutionchapel.org/event/special-anointing-for-creativity/
CATEGORIES:All Events
ORGANIZER;CN="Solution Chapel International":MAILTO:info@solutionchapel.org
END:VEVENT
END:VCALENDAR