BEGIN:VCALENDAR
VERSION:2.0
PRODID:-//Solution Chapel International - ECPv6.15.20//NONSGML v1.0//EN
CALSCALE:GREGORIAN
METHOD:PUBLISH
X-WR-CALNAME:Solution Chapel International
X-ORIGINAL-URL:https://solutionchapel.org
X-WR-CALDESC:Events for Solution Chapel International
REFRESH-INTERVAL;VALUE=DURATION:PT1H
X-Robots-Tag:noindex
X-PUBLISHED-TTL:PT1H
BEGIN:VTIMEZONE
TZID:UTC
BEGIN:STANDARD
TZOFFSETFROM:+0000
TZOFFSETTO:+0000
TZNAME:UTC
DTSTART:20220101T000000
END:STANDARD
END:VTIMEZONE
BEGIN:VEVENT
DTSTART;TZID=UTC:20230521T100000
DTEND;TZID=UTC:20230521T123000
DTSTAMP:20260420T064824
CREATED:20230429T092019Z
LAST-MODIFIED:20230531T154844Z
UID:21732-1684663200-1684672200@solutionchapel.org
SUMMARY:Success Sunday
DESCRIPTION:SUCCESS SUNDAY \nEVERY CYCLE OF RECURRENT FAILURE SHAL BE DESTROYED  \nSUNDAY  21ST MAY 2023   \n1ST SERVICE 10:00AM – 11:15AM  \n2ND SERVICE 11:15AM – 12:30PM \nSOLUTION CHAPEL INTERNATIONAL – HOME OF SIGNS\, WONDERS & MIRACLES  \nBARNFIELD ROAD\, OFF WOODFIELD ROAD\, NORTHGATE\, CRAWLEY\, RH10 8DS \nPLEASE INVITED 2 OR MORE OF YOUR FAMILY AND FRIENDS TO THIS SPECIAL SUNDAY SERVICE \nALL ARE INVITED 
URL:https://solutionchapel.org/event/success-sunday/
LOCATION:Solution Chapel International\, 10 New Street\, Crawley\, West Sussex\, RH10 1LW\, United Kingdom
CATEGORIES:All Events
ATTACH;FMTTYPE=image/png:https://solutionchapel.org/wp-content/uploads/2023/04/SUCCESS-SUNDAY-.png
ORGANIZER;CN="Solution Chapel International":MAILTO:info@solutionchapel.org
END:VEVENT
END:VCALENDAR