BEGIN:VCALENDAR
VERSION:2.0
PRODID:-//Solution Chapel International - ECPv6.15.20//NONSGML v1.0//EN
CALSCALE:GREGORIAN
METHOD:PUBLISH
X-WR-CALNAME:Solution Chapel International
X-ORIGINAL-URL:https://solutionchapel.org
X-WR-CALDESC:Events for Solution Chapel International
REFRESH-INTERVAL;VALUE=DURATION:PT1H
X-Robots-Tag:noindex
X-PUBLISHED-TTL:PT1H
BEGIN:VTIMEZONE
TZID:Europe/London
BEGIN:DAYLIGHT
TZOFFSETFROM:+0000
TZOFFSETTO:+0100
TZNAME:BST
DTSTART:20250330T010000
END:DAYLIGHT
BEGIN:STANDARD
TZOFFSETFROM:+0100
TZOFFSETTO:+0000
TZNAME:GMT
DTSTART:20251026T010000
END:STANDARD
BEGIN:DAYLIGHT
TZOFFSETFROM:+0000
TZOFFSETTO:+0100
TZNAME:BST
DTSTART:20260329T010000
END:DAYLIGHT
BEGIN:STANDARD
TZOFFSETFROM:+0100
TZOFFSETTO:+0000
TZNAME:GMT
DTSTART:20261025T010000
END:STANDARD
BEGIN:DAYLIGHT
TZOFFSETFROM:+0000
TZOFFSETTO:+0100
TZNAME:BST
DTSTART:20270328T010000
END:DAYLIGHT
BEGIN:STANDARD
TZOFFSETFROM:+0100
TZOFFSETTO:+0000
TZNAME:GMT
DTSTART:20271031T010000
END:STANDARD
END:VTIMEZONE
BEGIN:VEVENT
DTSTART;TZID=Europe/London:20260426T094500
DTEND;TZID=Europe/London:20260426T114500
DTSTAMP:20260424T175749
CREATED:20260424T132325Z
LAST-MODIFIED:20260424T132325Z
UID:37615-1777196700-1777203900@solutionchapel.org
SUMMARY:Thanksgiving & Restoration Sunday
DESCRIPTION:Thanksgiving & Restoration Sunday
URL:https://solutionchapel.org/event/thanksgiving-restoration-sunday/
LOCATION:Solution Chapel International\, 10 New Street\, Crawley\, West Sussex\, RH10 1LW\, United Kingdom
CATEGORIES:All Events
ATTACH;FMTTYPE=image/jpeg:https://solutionchapel.org/wp-content/uploads/2026/04/DSC00785-scaled.jpg
ORGANIZER;CN="Solution Chapel International":MAILTO:info@solutionchapel.org
END:VEVENT
END:VCALENDAR