BEGIN:VCALENDAR
VERSION:2.0
PRODID:-//Solution Chapel International - ECPv6.15.20//NONSGML v1.0//EN
CALSCALE:GREGORIAN
METHOD:PUBLISH
X-WR-CALNAME:Solution Chapel International
X-ORIGINAL-URL:https://solutionchapel.org
X-WR-CALDESC:Events for Solution Chapel International
REFRESH-INTERVAL;VALUE=DURATION:PT1H
X-Robots-Tag:noindex
X-PUBLISHED-TTL:PT1H
BEGIN:VTIMEZONE
TZID:Europe/London
BEGIN:DAYLIGHT
TZOFFSETFROM:+0000
TZOFFSETTO:+0100
TZNAME:BST
DTSTART:20240331T010000
END:DAYLIGHT
BEGIN:STANDARD
TZOFFSETFROM:+0100
TZOFFSETTO:+0000
TZNAME:GMT
DTSTART:20241027T010000
END:STANDARD
BEGIN:DAYLIGHT
TZOFFSETFROM:+0000
TZOFFSETTO:+0100
TZNAME:BST
DTSTART:20250330T010000
END:DAYLIGHT
BEGIN:STANDARD
TZOFFSETFROM:+0100
TZOFFSETTO:+0000
TZNAME:GMT
DTSTART:20251026T010000
END:STANDARD
BEGIN:DAYLIGHT
TZOFFSETFROM:+0000
TZOFFSETTO:+0100
TZNAME:BST
DTSTART:20260329T010000
END:DAYLIGHT
BEGIN:STANDARD
TZOFFSETFROM:+0100
TZOFFSETTO:+0000
TZNAME:GMT
DTSTART:20261025T010000
END:STANDARD
END:VTIMEZONE
BEGIN:VEVENT
DTSTART;TZID=Europe/London:20250412T100000
DTEND;TZID=Europe/London:20250412T170000
DTSTAMP:20260422T111659
CREATED:20250320T121430Z
LAST-MODIFIED:20250320T121536Z
UID:33152-1744452000-1744477200@solutionchapel.org
SUMMARY:Three Bridges Train Station Easter Outreach
DESCRIPTION:Three Bridges Train Station Easter Outreach \nJoin us take the gospel of Jesus Christ in Three Bridges\, Crawley\, West Sussex. \nAll Church members and Christians are invited to join in this Easter Outreach Campaign. \nSaturday 12th April 2025 \nTimes 10:00am – 11:00am & 4:00pm – 5:00pm \n@ Three Bridges Train Station 
URL:https://solutionchapel.org/event/three-bridges-train-station-easter-outreach-2/
CATEGORIES:All Events
ORGANIZER;CN="Solution Chapel International":MAILTO:info@solutionchapel.org
END:VEVENT
END:VCALENDAR