BEGIN:VCALENDAR
VERSION:2.0
PRODID:-//Solution Chapel International - ECPv6.15.20//NONSGML v1.0//EN
CALSCALE:GREGORIAN
METHOD:PUBLISH
X-WR-CALNAME:Solution Chapel International
X-ORIGINAL-URL:https://solutionchapel.org
X-WR-CALDESC:Events for Solution Chapel International
REFRESH-INTERVAL;VALUE=DURATION:PT1H
X-Robots-Tag:noindex
X-PUBLISHED-TTL:PT1H
BEGIN:VTIMEZONE
TZID:Europe/London
BEGIN:DAYLIGHT
TZOFFSETFROM:+0000
TZOFFSETTO:+0100
TZNAME:BST
DTSTART:20230326T010000
END:DAYLIGHT
BEGIN:STANDARD
TZOFFSETFROM:+0100
TZOFFSETTO:+0000
TZNAME:GMT
DTSTART:20231029T010000
END:STANDARD
BEGIN:DAYLIGHT
TZOFFSETFROM:+0000
TZOFFSETTO:+0100
TZNAME:BST
DTSTART:20240331T010000
END:DAYLIGHT
BEGIN:STANDARD
TZOFFSETFROM:+0100
TZOFFSETTO:+0000
TZNAME:GMT
DTSTART:20241027T010000
END:STANDARD
BEGIN:DAYLIGHT
TZOFFSETFROM:+0000
TZOFFSETTO:+0100
TZNAME:BST
DTSTART:20250330T010000
END:DAYLIGHT
BEGIN:STANDARD
TZOFFSETFROM:+0100
TZOFFSETTO:+0000
TZNAME:GMT
DTSTART:20251026T010000
END:STANDARD
END:VTIMEZONE
BEGIN:VTIMEZONE
TZID:UTC
BEGIN:STANDARD
TZOFFSETFROM:+0000
TZOFFSETTO:+0000
TZNAME:UTC
DTSTART:20230101T000000
END:STANDARD
END:VTIMEZONE
BEGIN:VEVENT
DTSTART;TZID=Europe/London:20241110T103000
DTEND;TZID=Europe/London:20241110T123000
DTSTAMP:20260420T060743
CREATED:20241030T164908Z
LAST-MODIFIED:20241030T164936Z
UID:29892-1731234600-1731241800@solutionchapel.org
SUMMARY:Harvest Sunday
DESCRIPTION:Harvest Sunday \nCome join us for a bountiful celebration at Crowne Plaza London – Gatwick Airport. Harvest Sunday is a time to give thanks for the abundance of the season and enjoy a delicious feast together. This in-person event promises fun activities\, great food\, and a warm community atmosphere. Don’t miss out on this opportunity to connect with others and celebrate the harvest season! God is set to give you Harvest of Miracles\, Healings & Promotion & Progress at Solution Chapel International Crawley – Home of Signs\, Wonders & Miracles. All are invited to this Special Harvest Sunday
URL:https://solutionchapel.org/event/harvest-sunday/
CATEGORIES:All Events
ATTACH;FMTTYPE=image/jpeg:https://solutionchapel.org/wp-content/uploads/2024/10/download-3.jpeg
ORGANIZER;CN="Solution Chapel International":MAILTO:info@solutionchapel.org
END:VEVENT
BEGIN:VEVENT
DTSTART;TZID=Europe/London:20241103T103000
DTEND;TZID=Europe/London:20241103T123000
DTSTAMP:20260420T060743
CREATED:20241026T212315Z
LAST-MODIFIED:20241027T074238Z
UID:29791-1730629800-1730637000@solutionchapel.org
SUMMARY:Praise Sunday
DESCRIPTION:Welcome to Praise Sunday! Join us for a day filled with uplifting music\, inspiring messages\, and a sense of community. This in-person event will be held at the Crowne Plaza Hotel Crawley\, where we’ll come together to celebrate faith and fellowship. Don’t miss out on this opportunity to connect with others and praise together. Come as you are and be ready to experience the power of worship. We can’t wait to see you there!
URL:https://solutionchapel.org/event/praise-sunday-4/
CATEGORIES:All Events
ATTACH;FMTTYPE=image/jpeg:https://solutionchapel.org/wp-content/uploads/2024/10/PRAISE-SUNDAY.jpg
ORGANIZER;CN="Solution Chapel International":MAILTO:info@solutionchapel.org
END:VEVENT
BEGIN:VEVENT
DTSTART;TZID=Europe/London:20241027T103000
DTEND;TZID=Europe/London:20241027T120000
DTSTAMP:20260420T060743
CREATED:20241023T070220Z
LAST-MODIFIED:20241023T070220Z
UID:28766-1730025000-1730030400@solutionchapel.org
SUMMARY:Open Doors Sunday
DESCRIPTION:Welcome to Open Doors Sunday\, Pastor Adama Segbedji will be ministering at the Special Service! Join us for a fun-filled day at Crowne Plaza Hotel where we will be opening our doors to the community. This is your chance to explore the hotel\, meet our staff\, and discover all the amenities we have to offer. Whether you’re looking for a staycation spot or just curious about what goes on behind the scenes\, this event is perfect for you. Bring your friends and family along for a day of excitement and hospitality. We can’t wait to welcome you!
URL:https://solutionchapel.org/event/open-doors-sunday-2/
CATEGORIES:All Events
ATTACH;FMTTYPE=image/jpeg:https://solutionchapel.org/wp-content/uploads/2024/10/OPEN-DOORS-SUNDAY.jpg
ORGANIZER;CN="Solution Chapel International":MAILTO:info@solutionchapel.org
END:VEVENT
BEGIN:VEVENT
DTSTART;TZID=UTC:20241026T103000
DTEND;TZID=UTC:20241026T183000
DTSTAMP:20260420T060743
CREATED:20240120T181510Z
LAST-MODIFIED:20241025T064303Z
UID:26469-1729938600-1729967400@solutionchapel.org
SUMMARY:Mirror 2024 | Significance
DESCRIPTION:Free Conference to Attend \nYou’re Invited to the Mirror Conference 2024 | Significance! \nDear faithfuls\, \nWe are excited to invite you to the Mirror Conference 2024! This powerful event empowers women to rise and embrace their God-given significance in every area of life. \nHosted by Pastor Zama Segbedji and featuring dynamic guest speakers:\n– Dr Abigail Oddoye (Covenant Church\, Southampton)\n– Dr Pat Okorie (GP\, Women’s Health)\n– Dr Kike Anunobi (Forensic Psychiatrist) \nThe conference will occur on October 26th\, 2024\, from 10:30 AM to 2:00 PM at Solution Chapel International. It promises to be an impactful time of inspiration\, fellowship\, and empowerment. \nGod is calling you to arise and make a global impact\, and this is your time to step into the fullness of His purpose for your life! \nCome and be equipped\, encouraged\, and empowered. We can’t wait to see you there! \nVenue:\nCrowne Plaza Hotel\, Crawley\, Langley Drive\, RH11 7SX \nDate & Time: \nOctober 26th\, 2024 | 10:30 AM – 2:00 PM \nLet’s gather\, learn\, and rise to our significance in Christ! \nBe blessed and see you at Mirror Conference 2024!
URL:https://solutionchapel.org/event/mirror-2024-significance/
CATEGORIES:All Events
ATTACH;FMTTYPE=image/jpeg:https://solutionchapel.org/wp-content/uploads/2024/10/MIRROR-CONFERENCE-2160-x-1080px.jpg
ORGANIZER;CN="Solution Chapel International":MAILTO:info@solutionchapel.org
END:VEVENT
BEGIN:VEVENT
DTSTART;TZID=Europe/London:20241019T080000
DTEND;TZID=Europe/London:20241019T170000
DTSTAMP:20260420T060743
CREATED:20241019T172730Z
LAST-MODIFIED:20241019T172746Z
UID:27590-1729324800-1729357200@solutionchapel.org
SUMMARY:Kingdom Sunday
DESCRIPTION:Welcome to Kingdom Sunday! Join us for an incredible day filled with worship\, fellowship\, and inspiration at the Crowne Plaza London – Gatwick Airport. Get ready to experience powerful messages\, uplifting music\, and a sense of community like never before. Whether you’re a long-time believer or just curious about faith\, this event is for you. Come as you are and be prepared to be encouraged and uplifted. We can’t wait to see you there!
URL:https://solutionchapel.org/event/kingdom-sunday/
CATEGORIES:All Events
ATTACH;FMTTYPE=image/png:https://solutionchapel.org/wp-content/uploads/2024/10/KINGDOM-SUNDAY.png
END:VEVENT
BEGIN:VEVENT
DTSTART;TZID=Europe/London:20240922T100000
DTEND;TZID=Europe/London:20240922T123000
DTSTAMP:20260420T060743
CREATED:20240913T064337Z
LAST-MODIFIED:20240913T064345Z
UID:27379-1726999200-1727008200@solutionchapel.org
SUMMARY:Restoration Sunday
DESCRIPTION:Restoration Sunday at Solution Chapel International – Home of Signs\, Wonders & Miracles
URL:https://solutionchapel.org/event/restoration-sunday-3/
CATEGORIES:All Events
ORGANIZER;CN="Solution Chapel International":MAILTO:info@solutionchapel.org
END:VEVENT
BEGIN:VEVENT
DTSTART;TZID=Europe/London:20240916T065000
DTEND;TZID=Europe/London:20241111T073000
DTSTAMP:20260420T060743
CREATED:20240916T035604Z
LAST-MODIFIED:20241227T155321Z
UID:27387-1726469400-1731310200@solutionchapel.org
SUMMARY:Manifest - Altar of Manifestations
DESCRIPTION:Manifest – Altar of Manifestations \nJoin us daily on Manifest – Altar of Manifestations as we pray for your Supernatural Turnarounds. We pray daily on Zoom. \nZOOM ID 2233858000 PASSCODE 040109 Manifest is open to all Christians looking for a place to pray for speedy answers. ALL ARE INVITED  \nPrayer Time – 6:50AM – 7:30AM UK Time
URL:https://solutionchapel.org/event/manifest-altar-of-manifestations/
CATEGORIES:All Events
ATTACH;FMTTYPE=image/webp:https://solutionchapel.org/wp-content/uploads/2024/08/MANIFEST-1.webp
ORGANIZER;CN="Solution Chapel International":MAILTO:info@solutionchapel.org
END:VEVENT
BEGIN:VEVENT
DTSTART;TZID=Europe/London:20240915T100000
DTEND;TZID=Europe/London:20240915T123000
DTSTAMP:20260420T060743
CREATED:20240910T221140Z
LAST-MODIFIED:20240910T221200Z
UID:27369-1726394400-1726403400@solutionchapel.org
SUMMARY:SETTLEMENT SUNDAY
DESCRIPTION:SETTLEMENT SUNDAY
URL:https://solutionchapel.org/event/settlement-sunday-2/
CATEGORIES:All Events
ATTACH;FMTTYPE=image/jpeg:https://solutionchapel.org/wp-content/uploads/2024/09/SETTLEMENT-SUNDAY.jpg
ORGANIZER;CN="Solution Chapel International":MAILTO:info@solutionchapel.org
END:VEVENT
BEGIN:VEVENT
DTSTART;TZID=Europe/London:20240901T100000
DTEND;TZID=Europe/London:20240901T123000
DTSTAMP:20260420T060743
CREATED:20240716T215549Z
LAST-MODIFIED:20240726T021447Z
UID:27303-1725184800-1725193800@solutionchapel.org
SUMMARY:Enlargement Sunday
DESCRIPTION:Enlargement Sunday
URL:https://solutionchapel.org/event/enlargement-sunday/
CATEGORIES:All Events
ATTACH;FMTTYPE=image/jpeg:https://solutionchapel.org/wp-content/uploads/2024/07/ENLARGEMENT-SUNDAY.jpg
ORGANIZER;CN="Solution Chapel International":MAILTO:info@solutionchapel.org
END:VEVENT
BEGIN:VEVENT
DTSTART;TZID=Europe/London:20240825T100000
DTEND;TZID=Europe/London:20240825T170000
DTSTAMP:20260420T060743
CREATED:20240731T093616Z
LAST-MODIFIED:20240816T174234Z
UID:27319-1724580000-1724605200@solutionchapel.org
SUMMARY:Generosity Sunday 2024
DESCRIPTION:Generosity Sunday 2024 \nJoin us for the Generosity Sunday on the 25th August 2024 as we give back food\, clothes\, electrical items\, bicycles\, books etc to the Crawley Community. \n  \nALL ARE INVITED
URL:https://solutionchapel.org/event/generosity-sunday-2024/
CATEGORIES:All Events
ATTACH;FMTTYPE=image/webp:https://solutionchapel.org/wp-content/uploads/2024/08/GENEROSITY-SUNDAY.webp
ORGANIZER;CN="Solution Chapel International":MAILTO:info@solutionchapel.org
END:VEVENT
BEGIN:VEVENT
DTSTART;TZID=Europe/London:20240818T100000
DTEND;TZID=Europe/London:20240818T123000
DTSTAMP:20260420T060743
CREATED:20240716T190341Z
LAST-MODIFIED:20240802T173606Z
UID:27298-1723975200-1723984200@solutionchapel.org
SUMMARY:VICTORY SUNDAY
DESCRIPTION:VICTORY SUNDAY \n18th AUGUST 2024 \nJoin us for this life transforming Prophetic Service \nYour days of VICTORY are already here\, join God’s Servant Pastors Adama & Zama Segbedji with Special Guest Bishop Samuel Patta & Pastor Merlyn Patta at Solution Chapel International the Home of Signs\, Wonders and Miracles. \nAfter the VICTORY SUNDAY you will be hearing news of ALL ROUND VICTORY from every where in the name of Jesus \nYou are specially invited to the VICTORY SUNDAY at Solution Chapel International the Home of Signs\, Wonders and Miracles\, 10 New Street\, Three Bridges\, Crawley\, RH10 1LW \n1st Sunday Service 9:50am – 11:15am  \n2nd Sunday Service 11:15am – 12:30pm  \nSOLUTION CHAPEL INTERNATIONAL | HOME OF SIGNS\, WONDERS & MIRACLES  \n10 NEW STREET\, THREE BRIDGES\, CRAWLEY\, RH10 1LW \n079 38 494 294 | INFO@SOLUTIONCHAPEL | WWW.SOLUTIONCHAPEL.ORG \nSpecial VICTORY Sunday Service with Bishop Samuel Patta & Pastor Merlyn Patta\, Founder & Senior Pastors of Kings Temple\, India
URL:https://solutionchapel.org/event/victory-sunday-3/
CATEGORIES:All Events
ATTACH;FMTTYPE=image/jpeg:https://solutionchapel.org/wp-content/uploads/2024/08/VICTORY-SUNDAY.jpg
ORGANIZER;CN="Solution Chapel International":MAILTO:info@solutionchapel.org
END:VEVENT
BEGIN:VEVENT
DTSTART;TZID=Europe/London:20240811T100000
DTEND;TZID=Europe/London:20240811T123000
DTSTAMP:20260420T060743
CREATED:20240801T110938Z
LAST-MODIFIED:20240802T181948Z
UID:27326-1723370400-1723379400@solutionchapel.org
SUMMARY:Salvation Sunday
DESCRIPTION:SALVATION SUNDAY \n11th AUGUST 2024 \nYour days of SALVATION and VICTORY are already here\, join God’s Servant Pastors Adama & Zama Segbedji at Solution Chapel International the Home of Signs\, Wonders and Miracles. \nAfter the SALVATION SUNDAY you will be hearing news of ALL ROUND TESTIMONIES from every where in the name of Jesus \nYou are specially invited to the SALVATION SUNDAY together with your family & friends at Solution Chapel International the Home of Signs\, Wonders and Miracles\, 10 New Street\, Three Bridges\, Crawley\, RH10 1LW \n1st Sunday Service 10:00am – 11:15am  \n2nd Sunday Service 11:15am – 12:30pm  \nSOLUTION CHAPEL INTERNATIONAL | HOME OF SIGNS\, WONDERS & MIRACLES  \n10 NEW STREET\, THREE BRIDGES\, CRAWLEY\, RH10 1LW \n079 38 494 294 | INFO@SOLUTIONCHAPEL | WWW.SOLUTIONCHAPEL.ORG
URL:https://solutionchapel.org/event/salvation-sunday/
CATEGORIES:All Events
ORGANIZER;CN="Solution Chapel International":MAILTO:info@solutionchapel.org
END:VEVENT
BEGIN:VEVENT
DTSTART;TZID=Europe/London:20240804T100000
DTEND;TZID=Europe/London:20240804T123000
DTSTAMP:20260420T060743
CREATED:20240726T031615Z
LAST-MODIFIED:20240802T180559Z
UID:27314-1722765600-1722774600@solutionchapel.org
SUMMARY:Impartation Sunday
DESCRIPTION:IMPARTATION SUNDAY \n4th AUGUST 2024 \nYour days of VICTORY are already here\, join God’s Servant Pastors Adama & Zama Segbedji at Solution Chapel International the Home of Signs\, Wonders and Miracles. \nAfter IMPARTATION SUNDAY the  you will be hearing news of ALL ROUND VICTORY from every where in the name of Jesus \nYou are specially invited to the IMPARTATION SUNDAY at Solution Chapel International the Home of Signs\, Wonders and Miracles\, 10 New Street\, Three Bridges\, Crawley\, RH10 1LW \n1st Sunday Service 9:50am – 11:15am  \n2nd Sunday Service 11:15am – 12:30pm  \nSOLUTION CHAPEL INTERNATIONAL | HOME OF SIGNS\, WONDERS & MIRACLES  \n10 NEW STREET\, THREE BRIDGES\, CRAWLEY\, RH10 1LW \n079 38 494 294 | INFO@SOLUTIONCHAPEL | WWW.SOLUTIONCHAPEL.ORG
URL:https://solutionchapel.org/event/impartation-sunday/
CATEGORIES:All Events
ORGANIZER;CN="Solution Chapel International":MAILTO:info@solutionchapel.org
END:VEVENT
BEGIN:VEVENT
DTSTART;TZID=Europe/London:20240728T100000
DTEND;TZID=Europe/London:20240728T123000
DTSTAMP:20260420T060743
CREATED:20240716T170143Z
LAST-MODIFIED:20240726T031157Z
UID:27295-1722160800-1722169800@solutionchapel.org
SUMMARY:Promises Sunday
DESCRIPTION:Join Pastor Adama & Zama Segbedji for the Promises Sunday with guest speaker Bishop Mike Adoasi \n1st Service 10:00am – 11:15am | 2nd Service 11:15am – 12:30pm
URL:https://solutionchapel.org/event/promises-sunday/
CATEGORIES:All Events
ATTACH;FMTTYPE=image/jpeg:https://solutionchapel.org/wp-content/uploads/2024/07/PROMISES-SUNDAY.jpg
ORGANIZER;CN="Solution Chapel International":MAILTO:info@solutionchapel.org
END:VEVENT
BEGIN:VEVENT
DTSTART;TZID=Europe/London:20240630T100000
DTEND;TZID=Europe/London:20240630T123000
DTSTAMP:20260420T060743
CREATED:20240528T135633Z
LAST-MODIFIED:20240528T135736Z
UID:27191-1719741600-1719750600@solutionchapel.org
SUMMARY:WATER BAPTISM SUNDAY
DESCRIPTION:WATER BAPTISM SUNDAY
URL:https://solutionchapel.org/event/water-baptism-sunday/
CATEGORIES:All Events
ATTACH;FMTTYPE=image/jpeg:https://solutionchapel.org/wp-content/uploads/2024/03/IMG_3425.jpg
ORGANIZER;CN="Solution Chapel International":MAILTO:info@solutionchapel.org
END:VEVENT
BEGIN:VEVENT
DTSTART;TZID=Europe/London:20240622T060000
DTEND;TZID=Europe/London:20240731T180000
DTSTAMP:20260420T060743
CREATED:20240311T213549Z
LAST-MODIFIED:20240508T100722Z
UID:26852-1719036000-1722448800@solutionchapel.org
SUMMARY:40 DAYS OF GLORY 2024 WITH PASTOR ADAMA SEGBEDJI
DESCRIPTION:40 DAYS OF GLORY 2024 WITH PASTOR ADAMA SEGBEDJI \nJoin us for 40 Days of daily Prayer and Fasting \n22ND JUNE – 31ST JULY 2024 \nSPIRIT | SOUL | BODY \nPRAYER TIMES  \n7:00AM – 7:30PM \n12:00 Noon – 12:30PM  \n3:00PM – 3:30PM \n6:30PM – 7:30PM  \n10:30PM – 11:00PM 
URL:https://solutionchapel.org/event/40-days-of-glory-2024-with-pastor-adama-segbedji/
CATEGORIES:All Events
ATTACH;FMTTYPE=image/jpeg:https://solutionchapel.org/wp-content/uploads/2024/05/40-DAYS-OF-GLORY.jpg
ORGANIZER;CN="Solution Chapel International":MAILTO:info@solutionchapel.org
END:VEVENT
BEGIN:VEVENT
DTSTART;TZID=Europe/London:20240611T193000
DTEND;TZID=Europe/London:20240611T210000
DTSTAMP:20260420T060743
CREATED:20240528T130534Z
LAST-MODIFIED:20240528T130857Z
UID:27189-1718134200-1718139600@solutionchapel.org
SUMMARY:WATER BAPTISM CLASS
DESCRIPTION:WATER BAPTISM CLASS  \nJoin us for the Water Baptism class on the 11th of June 2024 on Zoom ID 2233858 000 Passcode 040109 from 7:30pm – 9:00pm \nThis is for all who want to go through water baptism on the 30th June 2024
URL:https://solutionchapel.org/event/water-baptism-class-3/
CATEGORIES:All Events
ATTACH;FMTTYPE=image/jpeg:https://solutionchapel.org/wp-content/uploads/2024/04/DSC07452-scaled.jpg
END:VEVENT
BEGIN:VEVENT
DTSTART;TZID=Europe/London:20240609T100000
DTEND;TZID=Europe/London:20240609T123000
DTSTAMP:20260420T060743
CREATED:20240530T200829Z
LAST-MODIFIED:20240530T200837Z
UID:27198-1717927200-1717936200@solutionchapel.org
SUMMARY:MANIFESTATION SUNDAY
DESCRIPTION:HOME OF SIGNS\, WONDERS & MIRACLES \nMANIFESTATION SUNDAY \n9TH JUNE 2024\n1ST SERVICE 10:00AM – 11:15AM | 2ND SERVICE 11:15AM – 12:30PM \nMINISTERING | PASTOR ADAMA SEGBEDJI \nSOLUTION CHAPEL INTERNATIONAL\nBARNFIELD ROAD\, NORTHGATE\, CRAWLEY\, RH10 8DS \n07938 494 294 | INFO@SOLUTIONCHAPEL.ORG | WWW.SOLUTIONCHAPEL.ORG \nX / INSTAGRAM / THREAD / TIKTOK / FACEBOOK / YOUTUBE @ADAMASEGBEDJI\nFACEBOOK / YOUTUBE @SOLUTIONCHAPELINTERNATIONAL \nCOME & EXPERIENCE THE MANIFESTATIONS OF BREAKTHROUGHS\, BLESSINGS & MIRACLES. ALL ARE INVITED
URL:https://solutionchapel.org/event/manifestation-sunday-2/
CATEGORIES:All Events
ATTACH;FMTTYPE=image/jpeg:https://solutionchapel.org/wp-content/uploads/2024/04/DSC07451-scaled.jpg
ORGANIZER;CN="Solution Chapel International":MAILTO:info@solutionchapel.org
END:VEVENT
BEGIN:VEVENT
DTSTART;TZID=Europe/London:20240605T183000
DTEND;TZID=Europe/London:20240608T203000
DTSTAMP:20260420T060743
CREATED:20240508T133123Z
LAST-MODIFIED:20240508T144047Z
UID:27101-1717612200-1717878600@solutionchapel.org
SUMMARY:PROPHETIC ENCOUNTER | TRANSFIGURATION
DESCRIPTION:PROPHETIC ENCOUNTER | TRANSFIGURATION
URL:https://solutionchapel.org/event/prophetic-encounter-transfiguration/
ATTACH;FMTTYPE=image/jpeg:https://solutionchapel.org/wp-content/uploads/2024/05/TRANSFIGURATION.jpg
END:VEVENT
BEGIN:VEVENT
DTSTART;TZID=Europe/London:20240602T100000
DTEND;TZID=Europe/London:20240602T123000
DTSTAMP:20260420T060743
CREATED:20240426T191856Z
LAST-MODIFIED:20240530T111025Z
UID:27066-1717322400-1717331400@solutionchapel.org
SUMMARY:RESTORATION SUNDAY
DESCRIPTION:RESTORATION SUNDAY \n10am & 11:15am
URL:https://solutionchapel.org/event/restoration-sunday-2/
CATEGORIES:All Events
ATTACH;FMTTYPE=image/jpeg:https://solutionchapel.org/wp-content/uploads/2024/05/RESTORATION-SUNDAY.jpg
ORGANIZER;CN="Solution Chapel International":MAILTO:info@solutionchapel.org
END:VEVENT
BEGIN:VEVENT
DTSTART;TZID=Europe/London:20240526T100000
DTEND;TZID=Europe/London:20240526T123000
DTSTAMP:20260420T060743
CREATED:20240420T112921Z
LAST-MODIFIED:20240517T163725Z
UID:27049-1716717600-1716726600@solutionchapel.org
SUMMARY:ANOINTING & BREAKTHROUGH SUNDAY
DESCRIPTION:ANOINTING & BREAKTHROUGH SUNDAY
URL:https://solutionchapel.org/event/anointing-breakthrough-sunday-2/
LOCATION:Solution Chapel International\, 10 New Street\, Crawley\, West Sussex\, RH10 1LW\, United Kingdom
CATEGORIES:All Events
ATTACH;FMTTYPE=image/jpeg:https://solutionchapel.org/wp-content/uploads/2024/04/DSC07165-scaled.jpg
ORGANIZER;CN="Solution Chapel International":MAILTO:info@solutionchapel.org
END:VEVENT
BEGIN:VEVENT
DTSTART;TZID=Europe/London:20240519T100000
DTEND;TZID=Europe/London:20240519T123000
DTSTAMP:20260420T060743
CREATED:20240511T110216Z
LAST-MODIFIED:20240516T125929Z
UID:27106-1716112800-1716121800@solutionchapel.org
SUMMARY:FREEDOM SUNDAY
DESCRIPTION:FREEDOM SUNDAY \n  \nCome and experience Total Freedom from drug addiction and any form of addiction through the Power of Jesus Christ
URL:https://solutionchapel.org/event/freedom-sunday-2/
CATEGORIES:All Events
END:VEVENT
BEGIN:VEVENT
DTSTART;TZID=Europe/London:20240512T100000
DTEND;TZID=Europe/London:20240512T123000
DTSTAMP:20260420T060743
CREATED:20240423T202441Z
LAST-MODIFIED:20240511T111609Z
UID:27062-1715508000-1715517000@solutionchapel.org
SUMMARY:COMMUNION & TURNAROUND SUNDAY
DESCRIPTION:COMMUNION & TURNAROUND SUNDAY \n  \n1ST SERVICE 10AM \n2ND SERVICE 11:15AM \nCOME AND RECEIVE YOUR HEALING
URL:https://solutionchapel.org/event/communion-turnaround-sunday-2/
LOCATION:Solution Chapel International\, 10 New Street\, Crawley\, West Sussex\, RH10 1LW\, United Kingdom
CATEGORIES:All Events
ATTACH;FMTTYPE=image/jpeg:https://solutionchapel.org/wp-content/uploads/2024/04/TURNAROUND-SUNDAY.jpg
ORGANIZER;CN="Solution Chapel International":MAILTO:info@solutionchapel.org
END:VEVENT
BEGIN:VEVENT
DTSTART;TZID=Europe/London:20240505T100000
DTEND;TZID=Europe/London:20240505T120000
DTSTAMP:20260420T060743
CREATED:20240406T143942Z
LAST-MODIFIED:20240425T145920Z
UID:27028-1714903200-1714910400@solutionchapel.org
SUMMARY:PRAISE & STEWARDSHIP SUNDAY
DESCRIPTION:PRAISE & STEWARDSHIP SUNDAY \n1st Service 10:00am – 11:15am  \n2nd Service 11:15am – 12:30pm  \nMinistering | Pastor Adama Segbedji  \nSolution Chapel International – Home of Signs\, Wonders & Miracles  \nBarnfield Road\, Northgate\, Crawley\, RH10 8DS \n07938 494 294 | info@solutionchapel.org | www.solutionchapel.org
URL:https://solutionchapel.org/event/praise-stewardship-sunday/
LOCATION:Solution Chapel International\, 10 New Street\, Crawley\, West Sussex\, RH10 1LW\, United Kingdom
CATEGORIES:All Events
ORGANIZER;CN="Solution Chapel International":MAILTO:info@solutionchapel.org
END:VEVENT
BEGIN:VEVENT
DTSTART;TZID=Europe/London:20240501T183000
DTEND;TZID=Europe/London:20240504T203000
DTSTAMP:20260420T060743
CREATED:20240412T162202Z
LAST-MODIFIED:20240413T125805Z
UID:27037-1714588200-1714854600@solutionchapel.org
SUMMARY:ARISE & WIN | PROPHETIC ENCOUNTER
DESCRIPTION:ARISE & WIN | PROPHETIC ENCOUNTER \n  \n1st – 4th May 2024 | 6:30pm – 8:30pm BST \n  \nZoom ID 2233 858 000 Passcode 040109 \nMinistering Pastor Adama Segbedji \nPROPHETIC ENCOUNTER
URL:https://solutionchapel.org/event/arise-win-prophetic-encounter/
CATEGORIES:All Events
ATTACH;FMTTYPE=image/jpeg:https://solutionchapel.org/wp-content/uploads/2024/04/PROPHETIC-ENCOUNTER-2.jpg
ORGANIZER;CN="Solution Chapel International":MAILTO:info@solutionchapel.org
END:VEVENT
BEGIN:VEVENT
DTSTART;TZID=Europe/London:20240428T100000
DTEND;TZID=Europe/London:20240428T123000
DTSTAMP:20260420T060743
CREATED:20240406T095431Z
LAST-MODIFIED:20240409T161031Z
UID:26993-1714298400-1714307400@solutionchapel.org
SUMMARY:HEALING & MIRACLE SUNDAY
DESCRIPTION:HEALING & MIRACLE SUNDAY \n1st Service 10:00am – 11:15am  \n2nd Service 11:15am – 12:30pm \nSolution Chapel International – Home of Signs\, Wonders & Miracles  \nBarnfield Road\, Northgate\, Crawley\, West Sussex\, RH10 8DS \n07938 494 294 | info@solutionchapel.org | www.solutionchapel.org  \nJesus Christ is the Same Yesterday\, Today and Forever\, so come and experience the Healing and Miraculous Power of God. \n  \n 
URL:https://solutionchapel.org/event/healing-miracle-sunday/
LOCATION:Solution Chapel International\, 10 New Street\, Crawley\, West Sussex\, RH10 1LW\, United Kingdom
CATEGORIES:All Events
ATTACH;FMTTYPE=image/jpeg:https://solutionchapel.org/wp-content/uploads/2024/04/HEALING-_-MIRACLE-SUNDAY-2.jpg
ORGANIZER;CN="Solution Chapel International":MAILTO:info@solutionchapel.org
END:VEVENT
BEGIN:VEVENT
DTSTART;TZID=Europe/London:20240421T100000
DTEND;TZID=Europe/London:20240421T123000
DTSTAMP:20260420T060743
CREATED:20240406T142658Z
LAST-MODIFIED:20240416T101317Z
UID:27023-1713693600-1713702600@solutionchapel.org
SUMMARY:OWNERSHIP SUNDAY
DESCRIPTION:OWNERSHIP SUNDAY \n1st Service 10:00am – 11:15am  \n2nd Service 11:15am – 12:30pm  \nMinistering | Pastor Adama Segbedji  \nSolution Chapel International – Home of Signs\, Wonders & Miracles  \nBarnfield Road\, Northgate\, Crawley\, RH10 8DS \n07938 494 294 | info@solutionchapel.org | www.solutionchapel.org \nThe Ownership Sunday is destined to Empower you Possess your Possessions 
URL:https://solutionchapel.org/event/ownership-sunday/
LOCATION:Solution Chapel International\, 10 New Street\, Crawley\, West Sussex\, RH10 1LW\, United Kingdom
CATEGORIES:All Events
ATTACH;FMTTYPE=image/jpeg:https://solutionchapel.org/wp-content/uploads/2024/04/OWNERSHIP-SUNDAY-1.jpg
ORGANIZER;CN="Solution Chapel International":MAILTO:info@solutionchapel.org
END:VEVENT
BEGIN:VEVENT
DTSTART;TZID=Europe/London:20240414T100000
DTEND;TZID=Europe/London:20240414T123000
DTSTAMP:20260420T060743
CREATED:20240406T130918Z
LAST-MODIFIED:20240411T142603Z
UID:26998-1713088800-1713097800@solutionchapel.org
SUMMARY:WEALTH & RICHES SUNDAY
DESCRIPTION:WEALTH & RICHES SUNDAY \n1st Service 10:00am – 11:15am  \n2nd Service 11:15am – 12:30pm  \nMinistering | Pastor Adama Segbedji  \nSolution Chapel International – Home of Signs\, Wonders & Miracles  \nBarnfield Road\, Northgate\, Crawley\, RH10 8DS \n07938 494 294 | info@solutionchapel.org | www.solutionchapel.org
URL:https://solutionchapel.org/event/wealth-riches-sunday/
LOCATION:Solution Chapel International\, 10 New Street\, Crawley\, West Sussex\, RH10 1LW\, United Kingdom
CATEGORIES:All Events
ATTACH;FMTTYPE=image/jpeg:https://solutionchapel.org/wp-content/uploads/2024/04/WEALTH-RICHES-SUNDAY.jpg
ORGANIZER;CN="Solution Chapel International":MAILTO:info@solutionchapel.org
END:VEVENT
BEGIN:VEVENT
DTSTART;TZID=Europe/London:20240407T100000
DTEND;TZID=Europe/London:20240407T123000
DTSTAMP:20260420T060743
CREATED:20240402T070525Z
LAST-MODIFIED:20240406T094950Z
UID:26984-1712484000-1712493000@solutionchapel.org
SUMMARY:PRAISE & INCREASE SUNDAY
DESCRIPTION:PRAISE & INCREASE SUNDAY  \n10AM & 11:15AM \nThrough Praise God does Wonders in our lives\, come join us for the Praise and Increase Sunday. \nSolution Chapel International – Home of Signs\, Wonders & Miracles  \nBarnfield Road\, Northgate\, Crawley\, West Sussex\, RH10 8DS \n07938 494 294 | info@solutionchapel.org | www.solutionchapel.org 
URL:https://solutionchapel.org/event/praise-increase-sunday/
LOCATION:Solution Chapel International\, 10 New Street\, Crawley\, West Sussex\, RH10 1LW\, United Kingdom
CATEGORIES:All Events
ATTACH;FMTTYPE=image/jpeg:https://solutionchapel.org/wp-content/uploads/2024/04/DSC07131-scaled.jpg
ORGANIZER;CN="Solution Chapel International":MAILTO:info@solutionchapel.org
END:VEVENT
BEGIN:VEVENT
DTSTART;TZID=Europe/London:20240329T100000
DTEND;TZID=Europe/London:20240331T123000
DTSTAMP:20260420T060743
CREATED:20240314T141133Z
LAST-MODIFIED:20240322T210516Z
UID:26868-1711706400-1711888200@solutionchapel.org
SUMMARY:EASTER CONVENTION 2024
DESCRIPTION:EASTER CONVENTION 2024 \nFRIDAY 29TH MARCH 2024 10:00AM – 11:30AM ON ZOOM \nSATURDAY 30TH MARCH 2024 10:00AM – 11:30AM ON ZOOM \nSUNDAY 31ST MARCH 2024 | 1ST SERVICE 10:00AM – 11:15AM | 2ND SERVICE 11:15AM – 12:30PM \nSOLUTION CHAPEL INTERNATIONAL\, BARNFIELD ROAD\, NORTHGATE\, CRAWLEY\, RH10 8DS \nMINISTERING | PASTOR ADAMA SEGBEDJI
URL:https://solutionchapel.org/event/easter-convention-2024/
LOCATION:Solution Chapel International\, 10 New Street\, Crawley\, West Sussex\, RH10 1LW\, United Kingdom
CATEGORIES:All Events
ATTACH;FMTTYPE=image/jpeg:https://solutionchapel.org/wp-content/uploads/2024/03/Easter-Convention-2024.jpg
ORGANIZER;CN="Solution Chapel International":MAILTO:info@solutionchapel.org
END:VEVENT
END:VCALENDAR