BEGIN:VCALENDAR
VERSION:2.0
PRODID:-//Solution Chapel International - ECPv6.15.20//NONSGML v1.0//EN
CALSCALE:GREGORIAN
METHOD:PUBLISH
X-WR-CALNAME:Solution Chapel International
X-ORIGINAL-URL:https://solutionchapel.org
X-WR-CALDESC:Events for Solution Chapel International
REFRESH-INTERVAL;VALUE=DURATION:PT1H
X-Robots-Tag:noindex
X-PUBLISHED-TTL:PT1H
BEGIN:VTIMEZONE
TZID:Europe/London
BEGIN:DAYLIGHT
TZOFFSETFROM:+0000
TZOFFSETTO:+0100
TZNAME:BST
DTSTART:20250330T010000
END:DAYLIGHT
BEGIN:STANDARD
TZOFFSETFROM:+0100
TZOFFSETTO:+0000
TZNAME:GMT
DTSTART:20251026T010000
END:STANDARD
BEGIN:DAYLIGHT
TZOFFSETFROM:+0000
TZOFFSETTO:+0100
TZNAME:BST
DTSTART:20260329T010000
END:DAYLIGHT
BEGIN:STANDARD
TZOFFSETFROM:+0100
TZOFFSETTO:+0000
TZNAME:GMT
DTSTART:20261025T010000
END:STANDARD
BEGIN:DAYLIGHT
TZOFFSETFROM:+0000
TZOFFSETTO:+0100
TZNAME:BST
DTSTART:20270328T010000
END:DAYLIGHT
BEGIN:STANDARD
TZOFFSETFROM:+0100
TZOFFSETTO:+0000
TZNAME:GMT
DTSTART:20271031T010000
END:STANDARD
END:VTIMEZONE
BEGIN:VEVENT
DTSTART;TZID=Europe/London:20260301T100000
DTEND;TZID=Europe/London:20260301T120000
DTSTAMP:20260420T230108
CREATED:20260226T150126Z
LAST-MODIFIED:20260228T063142Z
UID:36937-1772359200-1772366400@solutionchapel.org
SUMMARY:Moving Forward Sunday
DESCRIPTION:Moving Forward Sunday \nEvent Brief\nMoving Forward Sunday is a prophetic and strategic service designed to position the commission for divine progress\, restoration of momentum\, and supernatural advancement. It is a call to leave behind limitations\, disappointments\, stagnation\, and past victories that may have become comfort zones—and to step boldly into God’s next dimension. \nThis service emphasizes: \n\n\nSpiritual realignment \n\n\nRenewed vision and clarity \n\n\nHealing from past setbacks \n\n\nBreaking cycles of delay \n\n\nStrategic faith action \n\n\nIt is not merely motivational; it is transformational and directional. \n\nCore Objectives\n\n\nSpiritual Renewal – Reignite passion\, consecration\, and hunger for God. \n\n\nMental Shift – Break limiting mindsets and fear-based decisions. \n\n\nProphetic Activation – Release declarations for the next season. \n\n\nVision Alignment – Reconnect members to divine purpose and corporate direction. \n\n\nMomentum Restoration – Recover lost ground and accelerate progress. \n\n\n\nSuggested Service Flow\n\n\nCall to Worship – Songs centered on breakthrough and advancement \n\n\nCorporate Prayer – Renouncing stagnation and embracing divine movement \n\n\nScripture Reading – Isaiah 43:18–19; Philippians 3:12–14; 2 Corinthians 5:7 \n\n\nProphetic Teaching – “Forgetting\, Reaching\, Pressing” \n\n\nProphetic Declarations & Anointing Moment \n\n\nSeed of Faith (Symbolic Act of Moving Forward) \n\n\nThanksgiving & Celebration \n\n\n\nKey Scriptural Foundations\n\n\nIsaiah 43:19 – “Behold\, I will do a new thing…” \n\n\nDeuteronomy 1:6 – “You have dwelt long enough at this mountain.” \n\n\nProverbs 4:18 – “The path of the just is like the shining sun…” \n\n\n2 Corinthians 3:18 – Transformation from glory to glory \n\n\n\nProphetic Focus Areas\n\n\nMoving forward spiritually \n\n\nMoving forward financially \n\n\nMoving forward in leadership \n\n\nMoving forward in destiny \n\n\nMoving forward as a family \n\n\nMoving forward as a commission
URL:https://solutionchapel.org/event/moving-forward-sunday/
LOCATION:Solution Chapel International\, 10 New Street\, Crawley\, West Sussex\, RH10 1LW\, United Kingdom
CATEGORIES:All Events
ATTACH;FMTTYPE=image/png:https://solutionchapel.org/wp-content/uploads/2026/02/MOVING-FORWARD-SUNDAY--scaled.png
ORGANIZER;CN="Solution Chapel International":MAILTO:info@solutionchapel.org
END:VEVENT
BEGIN:VEVENT
DTSTART;TZID=Europe/London:20260308T094500
DTEND;TZID=Europe/London:20260308T114500
DTSTAMP:20260420T230108
CREATED:20260303T142519Z
LAST-MODIFIED:20260303T184656Z
UID:36982-1772963100-1772970300@solutionchapel.org
SUMMARY:Miracle & Communion Sunday
DESCRIPTION:Miracle & Communion Sunday \nJoin us for Miracle & Communion Sunday\, a powerful encounter where faith is stirred\, burdens are lifted\, and the covenant power of the Lord’s Table is activated. \nThis special service is dedicated to healing\, restoration\, breakthrough\, and renewed strength through the finished work of Jesus Christ.
URL:https://solutionchapel.org/event/miracle-communion-sunday/
LOCATION:Solution Chapel International\, 10 New Street\, Crawley\, West Sussex\, RH10 1LW\, United Kingdom
CATEGORIES:All Events
ORGANIZER;CN="Solution Chapel International":MAILTO:info@solutionchapel.org
END:VEVENT
END:VCALENDAR