BEGIN:VCALENDAR
VERSION:2.0
PRODID:-//Solution Chapel International - ECPv6.15.20//NONSGML v1.0//EN
CALSCALE:GREGORIAN
METHOD:PUBLISH
X-ORIGINAL-URL:https://solutionchapel.org
X-WR-CALDESC:Events for Solution Chapel International
REFRESH-INTERVAL;VALUE=DURATION:PT1H
X-Robots-Tag:noindex
X-PUBLISHED-TTL:PT1H
BEGIN:VTIMEZONE
TZID:Europe/London
BEGIN:DAYLIGHT
TZOFFSETFROM:+0000
TZOFFSETTO:+0100
TZNAME:BST
DTSTART:20240331T010000
END:DAYLIGHT
BEGIN:STANDARD
TZOFFSETFROM:+0100
TZOFFSETTO:+0000
TZNAME:GMT
DTSTART:20241027T010000
END:STANDARD
BEGIN:DAYLIGHT
TZOFFSETFROM:+0000
TZOFFSETTO:+0100
TZNAME:BST
DTSTART:20250330T010000
END:DAYLIGHT
BEGIN:STANDARD
TZOFFSETFROM:+0100
TZOFFSETTO:+0000
TZNAME:GMT
DTSTART:20251026T010000
END:STANDARD
BEGIN:DAYLIGHT
TZOFFSETFROM:+0000
TZOFFSETTO:+0100
TZNAME:BST
DTSTART:20260329T010000
END:DAYLIGHT
BEGIN:STANDARD
TZOFFSETFROM:+0100
TZOFFSETTO:+0000
TZNAME:GMT
DTSTART:20261025T010000
END:STANDARD
BEGIN:DAYLIGHT
TZOFFSETFROM:+0000
TZOFFSETTO:+0100
TZNAME:BST
DTSTART:20270328T010000
END:DAYLIGHT
BEGIN:STANDARD
TZOFFSETFROM:+0100
TZOFFSETTO:+0000
TZNAME:GMT
DTSTART:20271031T010000
END:STANDARD
END:VTIMEZONE
BEGIN:VEVENT
DTSTART;TZID=Europe/London:20251231T210000
DTEND;TZID=Europe/London:20260101T010000
DTSTAMP:20260424T101358
CREATED:20241231T074655Z
LAST-MODIFIED:20251230T193149Z
UID:32532-1767214800-1767229200@solutionchapel.org
SUMMARY:Crossover 2025 with Pastor Adama Segbedji
DESCRIPTION:CROSSOVER 2025 with Pastor Adama Segbedji@ Solution Chapel International\, CrawleyStep Boldly Into Your Prophetic Destiny! \nGet ready for a night of power\, prophecy\, praise\, and divine direction as we gather to cross over into 2026 under a heavy atmosphere of glory! \nJoin Pastor Adama Segbedji\, Senior Pastor of Solution Chapel International\, for a prophetic Crossover Night where destinies will be launched\, yokes broken\, and vision released for the new year. \nCROSSOVER 2025 with Pastor Adama Segbedji \nDynamic WorshipProphetic Word for 2026Impartation & AnointingMidnight Declarations & Crossover Prayers \n31st December 2025Service starts at 9pm – Doors open early10 New Street\, Three Bridges\, Crawley\, RH10 1LWwww.solutionchapel.org \nDon’t enter 2026 casually — enter with power\, prophecy\, and purpose!Your New Season Starts Here. \nCROSSOVER 2025 with Pastor Adama Segbedji  \n#Crossover2025 #PastorAdamaSegbedji #SolutionChapel #NewYearService #PropheticCrossover #StepIntoDestiny #CrawleyChurch
URL:https://solutionchapel.org/event/crossover-2025-with-pastor-adama-segbedji/
LOCATION:Solution Chapel International\, 10 New Street\, Crawley\, West Sussex\, RH10 1LW\, United Kingdom
CATEGORIES:All Events
ORGANIZER;CN="Solution Chapel International":MAILTO:info@solutionchapel.org
END:VEVENT
END:VCALENDAR